BEGIN:VCALENDAR
VERSION:2.0
PRODID:-//hacksw/handcal//NONSGML v1.0//EN
CALSCALE:GREGORIAN
BEGIN:VEVENT
DTEND:20070630T230000Z
UID:69e7e3e2d9cb4
DTSTAMP:20260421T215354Z
LOCATION:0 
DESCRIPTION:
URL;VALUE=URI:
SUMMARY:2. Kaltenkirchener Walking Tag
DTSTART:20070630T230000Z
END:VEVENT
END:VCALENDAR
An internal server error occurred.