BEGIN:VCALENDAR
VERSION:2.0
PRODID:-//hacksw/handcal//NONSGML v1.0//EN
CALSCALE:GREGORIAN
BEGIN:VEVENT
DTEND:20070630T230000Z
UID:69e85f2083b70
DTSTAMP:20260422T063944Z
LOCATION:0 
DESCRIPTION:
URL;VALUE=URI:
SUMMARY:5. Sommerfestlauf mit Walking
DTSTART:20070630T230000Z
END:VEVENT
END:VCALENDAR
An internal server error occurred.