BEGIN:VCALENDAR
VERSION:2.0
PRODID:-//hacksw/handcal//NONSGML v1.0//EN
CALSCALE:GREGORIAN
BEGIN:VEVENT
DTEND:20070629T230000Z
UID:69e8eccd135ff
DTSTAMP:20260422T164413Z
LOCATION:0 
DESCRIPTION:
URL;VALUE=URI:
SUMMARY:30. Int. Volkslauf u. 6. Halbmarathon
DTSTART:20070629T230000Z
END:VEVENT
END:VCALENDAR
An internal server error occurred.