BEGIN:VCALENDAR
VERSION:2.0
PRODID:-//hacksw/handcal//NONSGML v1.0//EN
CALSCALE:GREGORIAN
BEGIN:VEVENT
DTEND:20070629T230000Z
UID:69e7d995433f5
DTSTAMP:20260421T210957Z
LOCATION:0 
DESCRIPTION:
URL;VALUE=URI:
SUMMARY:4. Himmelgeister Halbmarathon
DTSTART:20070629T230000Z
END:VEVENT
END:VCALENDAR
An internal server error occurred.