BEGIN:VCALENDAR
VERSION:2.0
PRODID:-//hacksw/handcal//NONSGML v1.0//EN
CALSCALE:GREGORIAN
BEGIN:VEVENT
DTEND:20070629T230000Z
UID:69ed8fcf2da5c
DTSTAMP:20260426T050847Z
LOCATION:0 
DESCRIPTION:
URL;VALUE=URI:
SUMMARY:Frankenwald-Event - 21. Frankenwaldlauf um den Preis der Kulmbacher Brauerei
DTSTART:20070629T230000Z
END:VEVENT
END:VCALENDAR
An internal server error occurred.