BEGIN:VCALENDAR
VERSION:2.0
PRODID:-//hacksw/handcal//NONSGML v1.0//EN
CALSCALE:GREGORIAN
BEGIN:VEVENT
DTEND:20070629T230000Z
UID:69ece361e107b
DTSTAMP:20260425T165305Z
LOCATION:0 
DESCRIPTION:
URL;VALUE=URI:
SUMMARY:19. Lauf um den Niedersonthofner See
DTSTART:20070629T230000Z
END:VEVENT
END:VCALENDAR
An internal server error occurred.