BEGIN:VCALENDAR
VERSION:2.0
PRODID:-//hacksw/handcal//NONSGML v1.0//EN
CALSCALE:GREGORIAN
BEGIN:VEVENT
DTEND:20070629T230000Z
UID:69ed3dc02426b
DTSTAMP:20260425T231840Z
LOCATION:0 
DESCRIPTION:
URL;VALUE=URI:
SUMMARY:20. Biengener Mitternachtslauf- 3. Wertungslauf Markgräfler Badquelle Cup
DTSTART:20070629T230000Z
END:VEVENT
END:VCALENDAR
An internal server error occurred.