BEGIN:VCALENDAR
VERSION:2.0
PRODID:-//hacksw/handcal//NONSGML v1.0//EN
CALSCALE:GREGORIAN
BEGIN:VEVENT
DTEND:20070908T170000Z
UID:69e93d3cc8938
DTSTAMP:20260422T222724Z
LOCATION:46047 Oberhausen
DESCRIPTION:
URL;VALUE=URI:
SUMMARY:3. Internationaler Emschernachttriathlon
DTSTART:20070907T230000Z
END:VEVENT
END:VCALENDAR
An internal server error occurred.