BEGIN:VCALENDAR
VERSION:2.0
PRODID:-//hacksw/handcal//NONSGML v1.0//EN
CALSCALE:GREGORIAN
BEGIN:VEVENT
DTEND:20070629T230000Z
UID:69ec1ae61c7d4
DTSTAMP:20260425T023742Z
LOCATION:0 
DESCRIPTION:
URL;VALUE=URI:
SUMMARY:2. Herrenberger Altstadtlauf (100 km Staffel  > 77 x 1-3 km)
DTSTART:20070629T230000Z
END:VEVENT
END:VCALENDAR
An internal server error occurred.