BEGIN:VCALENDAR
VERSION:2.0
PRODID:-//hacksw/handcal//NONSGML v1.0//EN
CALSCALE:GREGORIAN
BEGIN:VEVENT
DTEND:20070629T230000Z
UID:69e85f1ff112a
DTSTAMP:20260422T063943Z
LOCATION:0 
DESCRIPTION:
URL;VALUE=URI:
SUMMARY:Alutec-Belte Run'n' Roll Delbrück
DTSTART:20070629T230000Z
END:VEVENT
END:VCALENDAR
An internal server error occurred.