BEGIN:VCALENDAR
VERSION:2.0
PRODID:-//hacksw/handcal//NONSGML v1.0//EN
CALSCALE:GREGORIAN
BEGIN:VEVENT
DTEND:20070628T230000Z
UID:69e7b75709fbf
DTSTAMP:20260421T184351Z
LOCATION:0 
DESCRIPTION:
URL;VALUE=URI:
SUMMARY:36. Volkslauf
DTSTART:20070628T230000Z
END:VEVENT
END:VCALENDAR
An internal server error occurred.