BEGIN:VCALENDAR
VERSION:2.0
PRODID:-//hacksw/handcal//NONSGML v1.0//EN
CALSCALE:GREGORIAN
BEGIN:VEVENT
DTEND:20070624T230000Z
UID:69e812223c406
DTSTAMP:20260422T011114Z
LOCATION:0 
DESCRIPTION:
URL;VALUE=URI:
SUMMARY:26. Lauf Rund um Mackenzell
DTSTART:20070624T230000Z
END:VEVENT
END:VCALENDAR
An internal server error occurred.