BEGIN:VCALENDAR
VERSION:2.0
PRODID:-//hacksw/handcal//NONSGML v1.0//EN
CALSCALE:GREGORIAN
BEGIN:VEVENT
DTEND:20070623T230000Z
UID:69e79ac8bb397
DTSTAMP:20260421T164200Z
LOCATION:0 
DESCRIPTION:
URL;VALUE=URI:
SUMMARY:6. Rheydter Sport Event
DTSTART:20070623T230000Z
END:VEVENT
END:VCALENDAR
An internal server error occurred.