BEGIN:VCALENDAR
VERSION:2.0
PRODID:-//hacksw/handcal//NONSGML v1.0//EN
CALSCALE:GREGORIAN
BEGIN:VEVENT
DTEND:20070623T230000Z
UID:69ed6bc887781
DTSTAMP:20260426T023504Z
LOCATION:0 
DESCRIPTION:
URL;VALUE=URI:
SUMMARY:20. Breunaer Volkslauf mit 21-1 km Malsburg Lauf
DTSTART:20070623T230000Z
END:VEVENT
END:VCALENDAR
An internal server error occurred.