BEGIN:VCALENDAR
VERSION:2.0
PRODID:-//hacksw/handcal//NONSGML v1.0//EN
CALSCALE:GREGORIAN
BEGIN:VEVENT
DTEND:20070623T230000Z
UID:69e9a320821f6
DTSTAMP:20260423T054208Z
LOCATION:0 
DESCRIPTION:
URL;VALUE=URI:
SUMMARY:26. Spitz-Älthemer Volks- und Straßenlauf
DTSTART:20070623T230000Z
END:VEVENT
END:VCALENDAR
An internal server error occurred.