BEGIN:VCALENDAR
VERSION:2.0
PRODID:-//hacksw/handcal//NONSGML v1.0//EN
CALSCALE:GREGORIAN
BEGIN:VEVENT
DTEND:20070623T230000Z
UID:69e73ac795f4b
DTSTAMP:20260421T095223Z
LOCATION:0 
DESCRIPTION:
URL;VALUE=URI:
SUMMARY:KKH-Herz-Kreis-Lauf
DTSTART:20070623T230000Z
END:VEVENT
END:VCALENDAR
An internal server error occurred.