BEGIN:VCALENDAR
VERSION:2.0
PRODID:-//hacksw/handcal//NONSGML v1.0//EN
CALSCALE:GREGORIAN
BEGIN:VEVENT
DTEND:20070623T230000Z
UID:69e75d66ac7d4
DTSTAMP:20260421T122006Z
LOCATION:0 
DESCRIPTION:
URL;VALUE=URI:
SUMMARY:27. Int. Osterfelder Berglauf
DTSTART:20070623T230000Z
END:VEVENT
END:VCALENDAR
An internal server error occurred.