BEGIN:VCALENDAR
VERSION:2.0
PRODID:-//hacksw/handcal//NONSGML v1.0//EN
CALSCALE:GREGORIAN
BEGIN:VEVENT
DTEND:20070623T230000Z
UID:69ed74a7a42f2
DTSTAMP:20260426T031255Z
LOCATION:0 
DESCRIPTION:
URL;VALUE=URI:
SUMMARY:5. Eschelbronner Schreinerdorflauf mit Walking- Schüler 1200m bzw. 2400m
DTSTART:20070623T230000Z
END:VEVENT
END:VCALENDAR
An internal server error occurred.