BEGIN:VCALENDAR
VERSION:2.0
PRODID:-//hacksw/handcal//NONSGML v1.0//EN
CALSCALE:GREGORIAN
BEGIN:VEVENT
DTEND:20070623T230000Z
UID:69eb018e6e2d9
DTSTAMP:20260424T063718Z
LOCATION:0 
DESCRIPTION:
URL;VALUE=URI:
SUMMARY:27. Obersulmer Volkslauf Rund um den Breitenauer See
DTSTART:20070623T230000Z
END:VEVENT
END:VCALENDAR
An internal server error occurred.