BEGIN:VCALENDAR
VERSION:2.0
PRODID:-//hacksw/handcal//NONSGML v1.0//EN
CALSCALE:GREGORIAN
BEGIN:VEVENT
DTEND:20070623T230000Z
UID:69e7a3574afe9
DTSTAMP:20260421T171831Z
LOCATION:0 
DESCRIPTION:
URL;VALUE=URI:
SUMMARY:Störnthaler Seelauf 2007
DTSTART:20070623T230000Z
END:VEVENT
END:VCALENDAR
An internal server error occurred.