BEGIN:VCALENDAR
VERSION:2.0
PRODID:-//hacksw/handcal//NONSGML v1.0//EN
CALSCALE:GREGORIAN
BEGIN:VEVENT
DTEND:20070623T230000Z
UID:69e85f1eef9e5
DTSTAMP:20260422T063942Z
LOCATION:0 
DESCRIPTION:
URL;VALUE=URI:
SUMMARY:32. Volkslauf im Klövensteen
DTSTART:20070623T230000Z
END:VEVENT
END:VCALENDAR
An internal server error occurred.