BEGIN:VCALENDAR
VERSION:2.0
PRODID:-//hacksw/handcal//NONSGML v1.0//EN
CALSCALE:GREGORIAN
BEGIN:VEVENT
DTEND:20070622T230000Z
UID:69e75d6325cea
DTSTAMP:20260421T122003Z
LOCATION:0 
DESCRIPTION:
URL;VALUE=URI:
SUMMARY:2. Mutscheider Volks- und Straßenlauf
DTSTART:20070622T230000Z
END:VEVENT
END:VCALENDAR
An internal server error occurred.