BEGIN:VCALENDAR
VERSION:2.0
PRODID:-//hacksw/handcal//NONSGML v1.0//EN
CALSCALE:GREGORIAN
BEGIN:VEVENT
DTEND:20070622T230000Z
UID:69e75d6496081
DTSTAMP:20260421T122004Z
LOCATION:49624 Löningen
DESCRIPTION:
URL;VALUE=URI:
SUMMARY:5. Remmers- Hasetal - Marathon
DTSTART:20070622T230000Z
END:VEVENT
END:VCALENDAR
An internal server error occurred.