BEGIN:VCALENDAR
VERSION:2.0
PRODID:-//hacksw/handcal//NONSGML v1.0//EN
CALSCALE:GREGORIAN
BEGIN:VEVENT
DTEND:20070622T230000Z
UID:69e77019c3a3b
DTSTAMP:20260421T133953Z
LOCATION:0 
DESCRIPTION:
URL;VALUE=URI:
SUMMARY:9. Drebber-Lauf
DTSTART:20070622T230000Z
END:VEVENT
END:VCALENDAR
An internal server error occurred.