BEGIN:VCALENDAR
VERSION:2.0
PRODID:-//hacksw/handcal//NONSGML v1.0//EN
CALSCALE:GREGORIAN
BEGIN:VEVENT
DTEND:20070622T230000Z
UID:69e75d6469a32
DTSTAMP:20260421T122004Z
LOCATION:0 
DESCRIPTION:
URL;VALUE=URI:
SUMMARY:15. Int. Volkslauf Eisenbach/Ts
DTSTART:20070622T230000Z
END:VEVENT
END:VCALENDAR
An internal server error occurred.