BEGIN:VCALENDAR
VERSION:2.0
PRODID:-//hacksw/handcal//NONSGML v1.0//EN
CALSCALE:GREGORIAN
BEGIN:VEVENT
DTEND:20070622T230000Z
UID:69e85f2128be8
DTSTAMP:20260422T063945Z
LOCATION:0 
DESCRIPTION:
URL;VALUE=URI:
SUMMARY:13. Schönseer Johannislauf 
DTSTART:20070622T230000Z
END:VEVENT
END:VCALENDAR
An internal server error occurred.