BEGIN:VCALENDAR
VERSION:2.0
PRODID:-//hacksw/handcal//NONSGML v1.0//EN
CALSCALE:GREGORIAN
BEGIN:VEVENT
DTEND:20070622T230000Z
UID:69e7c7ceabd1f
DTSTAMP:20260421T195406Z
LOCATION:0 
DESCRIPTION:
URL;VALUE=URI:
SUMMARY:12. Internationaler Möhneseelauf
DTSTART:20070622T230000Z
END:VEVENT
END:VCALENDAR
An internal server error occurred.