BEGIN:VCALENDAR
VERSION:2.0
PRODID:-//hacksw/handcal//NONSGML v1.0//EN
CALSCALE:GREGORIAN
BEGIN:VEVENT
DTEND:20070621T230000Z
UID:69e73ac57f235
DTSTAMP:20260421T095221Z
LOCATION:0 
DESCRIPTION:
URL;VALUE=URI:
SUMMARY:3. Bad Gandersheimer Mittsommernachtslauf
DTSTART:20070621T230000Z
END:VEVENT
END:VCALENDAR
An internal server error occurred.