BEGIN:VCALENDAR
VERSION:2.0
PRODID:-//hacksw/handcal//NONSGML v1.0//EN
CALSCALE:GREGORIAN
BEGIN:VEVENT
DTEND:20070621T230000Z
UID:69e79ac8d3a3a
DTSTAMP:20260421T164200Z
LOCATION:0 
DESCRIPTION:
URL;VALUE=URI:
SUMMARY:28. Int. Sparda-Högllauf 
DTSTART:20070621T230000Z
END:VEVENT
END:VCALENDAR
An internal server error occurred.