BEGIN:VCALENDAR
VERSION:2.0
PRODID:-//hacksw/handcal//NONSGML v1.0//EN
CALSCALE:GREGORIAN
BEGIN:VEVENT
DTEND:20070621T230000Z
UID:69e81226c2708
DTSTAMP:20260422T011118Z
LOCATION:0 
DESCRIPTION:
URL;VALUE=URI:
SUMMARY:9. Töpfermarktlauf in Bürgel
DTSTART:20070621T230000Z
END:VEVENT
END:VCALENDAR
An internal server error occurred.