BEGIN:VCALENDAR
VERSION:2.0
PRODID:-//hacksw/handcal//NONSGML v1.0//EN
CALSCALE:GREGORIAN
BEGIN:VEVENT
DTEND:20070621T230000Z
UID:69e75d657f963
DTSTAMP:20260421T122005Z
LOCATION:0 
DESCRIPTION:
URL;VALUE=URI:
SUMMARY:17. Sonnenwendlauf 
DTSTART:20070621T230000Z
END:VEVENT
END:VCALENDAR
An internal server error occurred.