BEGIN:VCALENDAR
VERSION:2.0
PRODID:-//hacksw/handcal//NONSGML v1.0//EN
CALSCALE:GREGORIAN
BEGIN:VEVENT
DTEND:20070620T230000Z
UID:69e972c96e01c
DTSTAMP:20260423T021553Z
LOCATION:0 
DESCRIPTION:
URL;VALUE=URI:
SUMMARY:8. Berliner 5 x 5 Km Team-Staffel- 2. Tag
DTSTART:20070620T230000Z
END:VEVENT
END:VCALENDAR
An internal server error occurred.