BEGIN:VCALENDAR
VERSION:2.0
PRODID:-//hacksw/handcal//NONSGML v1.0//EN
CALSCALE:GREGORIAN
BEGIN:VEVENT
DTEND:20070619T230000Z
UID:69e725a8d051e
DTSTAMP:20260421T082216Z
LOCATION:0 
DESCRIPTION:
URL;VALUE=URI:
SUMMARY:Marzahner Läufer-Cup (4. Lauf)
DTSTART:20070619T230000Z
END:VEVENT
END:VCALENDAR
An internal server error occurred.