BEGIN:VCALENDAR
VERSION:2.0
PRODID:-//hacksw/handcal//NONSGML v1.0//EN
CALSCALE:GREGORIAN
BEGIN:VEVENT
DTEND:20070616T230000Z
UID:69e79ac9421f8
DTSTAMP:20260421T164201Z
LOCATION:0 
DESCRIPTION:
URL;VALUE=URI:
SUMMARY:3. Schaumburg - Lauf  
DTSTART:20070616T230000Z
END:VEVENT
END:VCALENDAR
An internal server error occurred.