BEGIN:VCALENDAR
VERSION:2.0
PRODID:-//hacksw/handcal//NONSGML v1.0//EN
CALSCALE:GREGORIAN
BEGIN:VEVENT
DTEND:20070616T230000Z
UID:69e81224ac4f0
DTSTAMP:20260422T011116Z
LOCATION:0 
DESCRIPTION:
URL;VALUE=URI:
SUMMARY:17. Holler Burgenlauf
DTSTART:20070616T230000Z
END:VEVENT
END:VCALENDAR
An internal server error occurred.