BEGIN:VCALENDAR
VERSION:2.0
PRODID:-//hacksw/handcal//NONSGML v1.0//EN
CALSCALE:GREGORIAN
BEGIN:VEVENT
DTEND:20070616T230000Z
UID:69e99531cdee8
DTSTAMP:20260423T044241Z
LOCATION:0 
DESCRIPTION:
URL;VALUE=URI:
SUMMARY:20. Finkenwerder Volkslauf
DTSTART:20070616T230000Z
END:VEVENT
END:VCALENDAR
An internal server error occurred.