BEGIN:VCALENDAR
VERSION:2.0
PRODID:-//hacksw/handcal//NONSGML v1.0//EN
CALSCALE:GREGORIAN
BEGIN:VEVENT
DTEND:20070616T230000Z
UID:69e8121ed7112
DTSTAMP:20260422T011110Z
LOCATION:0 
DESCRIPTION:
URL;VALUE=URI:
SUMMARY:4. Volkslauf MTV Urberbach
DTSTART:20070616T230000Z
END:VEVENT
END:VCALENDAR
An internal server error occurred.