BEGIN:VCALENDAR
VERSION:2.0
PRODID:-//hacksw/handcal//NONSGML v1.0//EN
CALSCALE:GREGORIAN
BEGIN:VEVENT
DTEND:20070616T230000Z
UID:69e9a30c3667b
DTSTAMP:20260423T054148Z
LOCATION:0 
DESCRIPTION:
URL;VALUE=URI:
SUMMARY:21. Hünfelder Stadtlauf Rund um den Haselsee
DTSTART:20070616T230000Z
END:VEVENT
END:VCALENDAR
An internal server error occurred.