BEGIN:VCALENDAR
VERSION:2.0
PRODID:-//hacksw/handcal//NONSGML v1.0//EN
CALSCALE:GREGORIAN
BEGIN:VEVENT
DTEND:20070616T230000Z
UID:69e725a908d7e
DTSTAMP:20260421T082217Z
LOCATION:0 
DESCRIPTION:
URL;VALUE=URI:
SUMMARY:11. Korbstadt-Forstlauf
DTSTART:20070616T230000Z
END:VEVENT
END:VCALENDAR
An internal server error occurred.