BEGIN:VCALENDAR
VERSION:2.0
PRODID:-//hacksw/handcal//NONSGML v1.0//EN
CALSCALE:GREGORIAN
BEGIN:VEVENT
DTEND:20070616T230000Z
UID:69e9952ddf4d9
DTSTAMP:20260423T044237Z
LOCATION:0 
DESCRIPTION:
URL;VALUE=URI:
SUMMARY:Puchheim läuft - laufend gutes tun
DTSTART:20070616T230000Z
END:VEVENT
END:VCALENDAR
An internal server error occurred.