BEGIN:VCALENDAR
VERSION:2.0
PRODID:-//hacksw/handcal//NONSGML v1.0//EN
CALSCALE:GREGORIAN
BEGIN:VEVENT
DTEND:20070616T230000Z
UID:69e716a9643b2
DTSTAMP:20260421T071817Z
LOCATION:0 
DESCRIPTION:
URL;VALUE=URI:
SUMMARY:1. Nagoldsee Lauf
DTSTART:20070616T230000Z
END:VEVENT
END:VCALENDAR
An internal server error occurred.