BEGIN:VCALENDAR
VERSION:2.0
PRODID:-//hacksw/handcal//NONSGML v1.0//EN
CALSCALE:GREGORIAN
BEGIN:VEVENT
DTEND:20070616T230000Z
UID:69e7235cb1d69
DTSTAMP:20260421T081228Z
LOCATION:0 
DESCRIPTION:
URL;VALUE=URI:
SUMMARY:10. Münchinger Stadtlauf
DTSTART:20070616T230000Z
END:VEVENT
END:VCALENDAR
An internal server error occurred.