BEGIN:VCALENDAR
VERSION:2.0
PRODID:-//hacksw/handcal//NONSGML v1.0//EN
CALSCALE:GREGORIAN
BEGIN:VEVENT
DTEND:20070616T230000Z
UID:69e7701b3f427
DTSTAMP:20260421T133955Z
LOCATION:0 
DESCRIPTION:
URL;VALUE=URI:
SUMMARY:3. Dolberger Landschaftslauf
DTSTART:20070616T230000Z
END:VEVENT
END:VCALENDAR
An internal server error occurred.