BEGIN:VCALENDAR
VERSION:2.0
PRODID:-//hacksw/handcal//NONSGML v1.0//EN
CALSCALE:GREGORIAN
BEGIN:VEVENT
DTEND:20070616T230000Z
UID:69eae5ea97a6f
DTSTAMP:20260424T043922Z
LOCATION:0 
DESCRIPTION:
URL;VALUE=URI:
SUMMARY:24. Int.Egge-Lauf mit Halbmarathon u.Wandern
DTSTART:20070616T230000Z
END:VEVENT
END:VCALENDAR
An internal server error occurred.