BEGIN:VCALENDAR
VERSION:2.0
PRODID:-//hacksw/handcal//NONSGML v1.0//EN
CALSCALE:GREGORIAN
BEGIN:VEVENT
DTEND:20070615T230000Z
UID:69e6fdf49d85a
DTSTAMP:20260421T053252Z
LOCATION:0 
DESCRIPTION:
URL;VALUE=URI:
SUMMARY:13. Wildeshauser Abendlauf
DTSTART:20070615T230000Z
END:VEVENT
END:VCALENDAR
An internal server error occurred.