BEGIN:VCALENDAR
VERSION:2.0
PRODID:-//hacksw/handcal//NONSGML v1.0//EN
CALSCALE:GREGORIAN
BEGIN:VEVENT
DTEND:20070610T090000Z
UID:69e68f093040f
DTSTAMP:20260420T213937Z
LOCATION:3100 St. Pölten
DESCRIPTION:Das Pielachtal zählt zu einer der schönstern Ausflugsregionen in Niederösterreicht. Am 10 Juni 2007 verbindet erstmals ein Lauf die Highlights des Dirndl-Tales mit der Landeshauptstadt St. Pölten.
URL;VALUE=URI:
SUMMARY:Pielachtal Marathon
DTSTART:20070609T230000Z
END:VEVENT
END:VCALENDAR
An internal server error occurred.