BEGIN:VCALENDAR
VERSION:2.0
PRODID:-//hacksw/handcal//NONSGML v1.0//EN
CALSCALE:GREGORIAN
BEGIN:VEVENT
DTEND:20070615T230000Z
UID:69ed8fcb84b7b
DTSTAMP:20260426T050843Z
LOCATION:0 
DESCRIPTION:
URL;VALUE=URI:
SUMMARY:15. Mitternachtslauf Bischweier- Schüler u. Bambiniläufe- 250m- 400m- 800m ab 17:00
DTSTART:20070615T230000Z
END:VEVENT
END:VCALENDAR
An internal server error occurred.