BEGIN:VCALENDAR
VERSION:2.0
PRODID:-//hacksw/handcal//NONSGML v1.0//EN
CALSCALE:GREGORIAN
BEGIN:VEVENT
DTEND:20070615T230000Z
UID:69ec0c3aa6369
DTSTAMP:20260425T013506Z
LOCATION:0 
DESCRIPTION:
URL;VALUE=URI:
SUMMARY:14. Fellbacher  6 & / 12 Stunden - Lauf des TSV Schmiden
DTSTART:20070615T230000Z
END:VEVENT
END:VCALENDAR
An internal server error occurred.