BEGIN:VCALENDAR
VERSION:2.0
PRODID:-//hacksw/handcal//NONSGML v1.0//EN
CALSCALE:GREGORIAN
BEGIN:VEVENT
DTEND:20070615T230000Z
UID:69e7419557e3f
DTSTAMP:20260421T102125Z
LOCATION:0 
DESCRIPTION:
URL;VALUE=URI:
SUMMARY:23. Everswinkler Volkslauf
DTSTART:20070615T230000Z
END:VEVENT
END:VCALENDAR
An internal server error occurred.