BEGIN:VCALENDAR
VERSION:2.0
PRODID:-//hacksw/handcal//NONSGML v1.0//EN
CALSCALE:GREGORIAN
BEGIN:VEVENT
DTEND:20070615T230000Z
UID:69e75d6a12d16
DTSTAMP:20260421T122010Z
LOCATION:0 
DESCRIPTION:
URL;VALUE=URI:
SUMMARY:17. Kurparklauf
DTSTART:20070615T230000Z
END:VEVENT
END:VCALENDAR
An internal server error occurred.